BEGIN:VCALENDAR
VERSION:2.0
PRODID:-//Tampa Bay Contra Dancing - ECPv6.15.20//NONSGML v1.0//EN
CALSCALE:GREGORIAN
METHOD:PUBLISH
X-WR-CALNAME:Tampa Bay Contra Dancing
X-ORIGINAL-URL:https://tampabaycontra.com
X-WR-CALDESC:Events for Tampa Bay Contra Dancing
REFRESH-INTERVAL;VALUE=DURATION:PT1H
X-Robots-Tag:noindex
X-PUBLISHED-TTL:PT1H
BEGIN:VTIMEZONE
TZID:UTC
BEGIN:STANDARD
TZOFFSETFROM:+0000
TZOFFSETTO:+0000
TZNAME:UTC
DTSTART:20220101T000000
END:STANDARD
END:VTIMEZONE
BEGIN:VEVENT
DTSTART;TZID=UTC:20231014T183000
DTEND;TZID=UTC:20231014T220000
DTSTAMP:20260424T114501
CREATED:20230512T180505Z
LAST-MODIFIED:20230615T153731Z
UID:623-1697308200-1697320800@tampabaycontra.com
SUMMARY:Polish American Society Contra Dance - 14 Oct 2023
DESCRIPTION:Music by Yazoo Kickstarts with calling by Katie Zanders
URL:https://tampabaycontra.com/event/polish-american-society-contra-dance-13-oct-2023/
LOCATION:Polish American Society\, 1343 Beach Dr SE\, St. Petersburg\, FL\, 33701
CATEGORIES:Dancing
ORGANIZER;CN="Tampa Friends of Old-Time Dance":MAILTO:tfootd@gmail.com
END:VEVENT
BEGIN:VEVENT
DTSTART;TZID=UTC:20231014T170000
DTEND;TZID=UTC:20231014T183000
DTSTAMP:20260424T114501
CREATED:20231007T002905Z
LAST-MODIFIED:20231007T003053Z
UID:753-1697302800-1697308200@tampabaycontra.com
SUMMARY:TFOOTD Board Meeting
DESCRIPTION:All interested dancers are welcome to attendd
URL:https://tampabaycontra.com/event/tfootd-board-meeting/
LOCATION:Polish American Society\, 1343 Beach Dr SE\, St. Petersburg\, FL\, 33701
ORGANIZER;CN="Tampa Friends of Old-Time Dance":MAILTO:tfootd@gmail.com
END:VEVENT
BEGIN:VEVENT
DTSTART;TZID=UTC:20230924T153000
DTEND;TZID=UTC:20230924T190000
DTSTAMP:20260424T114501
CREATED:20230512T180107Z
LAST-MODIFIED:20230512T180109Z
UID:621-1695569400-1695582000@tampabaycontra.com
SUMMARY:Gulfport Casino Contra Dance - 24 Sept 2023
DESCRIPTION:Music by That’s A Plenty with calling by Joey Norton
URL:https://tampabaycontra.com/event/gulfport-casino-contra-dance-24-sept-2023/
LOCATION:Gulfport Casino\, 5500 Shore Blvd S\, Gulfport\, FL\, 33707
CATEGORIES:Dancing
ORGANIZER;CN="Tampa Friends of Old-Time Dance":MAILTO:tfootd@gmail.com
END:VEVENT
BEGIN:VEVENT
DTSTART;TZID=UTC:20230909T183000
DTEND;TZID=UTC:20230909T220000
DTSTAMP:20260424T114501
CREATED:20230512T175738Z
LAST-MODIFIED:20230615T153856Z
UID:619-1694284200-1694296800@tampabaycontra.com
SUMMARY:Polish American Society Contra Dance - 9 Sept 2023
DESCRIPTION:Music by Rafter Ringers with calling by Katie Zanders
URL:https://tampabaycontra.com/event/polish-american-society-contra-dance-8-sept-2023/
LOCATION:Polish American Society\, 1343 Beach Dr SE\, St. Petersburg\, FL\, 33701
CATEGORIES:Dancing
ORGANIZER;CN="Tampa Friends of Old-Time Dance":MAILTO:tfootd@gmail.com
END:VEVENT
BEGIN:VEVENT
DTSTART;TZID=UTC:20230827T153000
DTEND;TZID=UTC:20230827T190000
DTSTAMP:20260424T114501
CREATED:20230505T203300Z
LAST-MODIFIED:20230823T014714Z
UID:590-1693150200-1693162800@tampabaycontra.com
SUMMARY:Gulfport Casino Contra Dance - 27 Aug 2023
DESCRIPTION:Music by Loco Motion with calling by JJ Luxe
URL:https://tampabaycontra.com/event/gulfport-casino-contra-dance-27-aug-2023/
LOCATION:Gulfport Casino\, 5500 Shore Blvd S\, Gulfport\, FL\, 33707
CATEGORIES:Dancing
ORGANIZER;CN="Tampa Friends of Old-Time Dance":MAILTO:tfootd@gmail.com
END:VEVENT
BEGIN:VEVENT
DTSTART;TZID=UTC:20230811T190000
DTEND;TZID=UTC:20230811T223000
DTSTAMP:20260424T114501
CREATED:20230505T202925Z
LAST-MODIFIED:20230505T203015Z
UID:588-1691780400-1691793000@tampabaycontra.com
SUMMARY:Polish American Society Contra Dance - 11 Aug 2023
DESCRIPTION:Music by Category 5 with calling by Stan Prince
URL:https://tampabaycontra.com/event/polish-american-society-contra-dance-11-aug-2023/
LOCATION:Polish American Society\, 1343 Beach Dr SE\, St. Petersburg\, FL\, 33701
CATEGORIES:Dancing
ORGANIZER;CN="Tampa Friends of Old-Time Dance":MAILTO:tfootd@gmail.com
END:VEVENT
BEGIN:VEVENT
DTSTART;TZID=UTC:20230723T153000
DTEND;TZID=UTC:20230723T190000
DTSTAMP:20260424T114501
CREATED:20230505T201110Z
LAST-MODIFIED:20230505T201501Z
UID:583-1690126200-1690138800@tampabaycontra.com
SUMMARY:Gulfport Casino Contra Dance - 23 July 2023
DESCRIPTION:Music by Keeping it Reel with calling by Jonathan King
URL:https://tampabaycontra.com/event/gulfport-casino-contra-dance-23-july-2023/
LOCATION:Gulfport Casino\, 5500 Shore Blvd S\, Gulfport\, FL\, 33707
CATEGORIES:Dancing
ORGANIZER;CN="Tampa Friends of Old-Time Dance":MAILTO:tfootd@gmail.com
END:VEVENT
BEGIN:VEVENT
DTSTART;TZID=UTC:20230714T190000
DTEND;TZID=UTC:20230714T223000
DTSTAMP:20260424T114501
CREATED:20230505T200512Z
LAST-MODIFIED:20230505T200828Z
UID:581-1689361200-1689373800@tampabaycontra.com
SUMMARY:Polish American Society Contra Dance - 14 July 2023
DESCRIPTION:Music by Jenny and the Stray Dogs with calling by Joey Norton
URL:https://tampabaycontra.com/event/polish-american-society-contra-dance-14-july-2023/
LOCATION:Polish American Society\, 1343 Beach Dr SE\, St. Petersburg\, FL\, 33701
CATEGORIES:Dancing
ORGANIZER;CN="Tampa Friends of Old-Time Dance":MAILTO:tfootd@gmail.com
END:VEVENT
BEGIN:VEVENT
DTSTART;TZID=UTC:20230625T153000
DTEND;TZID=UTC:20230625T190000
DTSTAMP:20260424T114501
CREATED:20230408T195523Z
LAST-MODIFIED:20230408T195525Z
UID:434-1687707000-1687719600@tampabaycontra.com
SUMMARY:Gulfport Casino Contra Dance - 25 Jun 2023
DESCRIPTION:Music by Rafter Ringers with calling by JJ Luxe
URL:https://tampabaycontra.com/event/gulfport-casino-contra-dance-25-jun-2023/
LOCATION:Gulfport Casino\, 5500 Shore Blvd S\, Gulfport\, FL\, 33707
CATEGORIES:Dancing
ORGANIZER;CN="Tampa Friends of Old-Time Dance":MAILTO:tfootd@gmail.com
END:VEVENT
BEGIN:VEVENT
DTSTART;TZID=UTC:20230609T190000
DTEND;TZID=UTC:20230609T223000
DTSTAMP:20260424T114501
CREATED:20230408T213241Z
LAST-MODIFIED:20230505T201727Z
UID:442-1686337200-1686349800@tampabaycontra.com
SUMMARY:Polish American Society Contra Dance - 9 Jun 2023
DESCRIPTION:Music by Jenny and the Stray Dogs with calling by Vicki Morrison
URL:https://tampabaycontra.com/event/polish-american-society-contra-dance-9-jun-2023/
LOCATION:Polish American Society\, 1343 Beach Dr SE\, St. Petersburg\, FL\, 33701
CATEGORIES:Dancing
ORGANIZER;CN="Tampa Friends of Old-Time Dance":MAILTO:tfootd@gmail.com
END:VEVENT
BEGIN:VEVENT
DTSTART;TZID=UTC:20230528T153000
DTEND;TZID=UTC:20230528T190000
DTSTAMP:20260424T114501
CREATED:20230408T094407Z
LAST-MODIFIED:20230408T195224Z
UID:423-1685287800-1685300400@tampabaycontra.com
SUMMARY:Gulfport Casino Contra Dance - 28 May 2023
DESCRIPTION:Music by Rafter Ringers with calling by Joey Norton
URL:https://tampabaycontra.com/event/gulfport-casino-contra-dance-28-may-2023/
LOCATION:Gulfport Casino\, 5500 Shore Blvd S\, Gulfport\, FL\, 33707
CATEGORIES:Dancing
ORGANIZER;CN="Tampa Friends of Old-Time Dance":MAILTO:tfootd@gmail.com
END:VEVENT
BEGIN:VEVENT
DTSTART;TZID=UTC:20230512T190000
DTEND;TZID=UTC:20230512T223000
DTSTAMP:20260424T114501
CREATED:20230408T213015Z
LAST-MODIFIED:20230505T201751Z
UID:440-1683918000-1683930600@tampabaycontra.com
SUMMARY:Polish American Society Contra Dance - 12 May 2023
DESCRIPTION:Music by Wind that Shakes the Barley with calling by Jonathan King
URL:https://tampabaycontra.com/event/polish-american-society-contra-dance-12-may-2023/
LOCATION:Polish American Society\, 1343 Beach Dr SE\, St. Petersburg\, FL\, 33701
CATEGORIES:Dancing
ORGANIZER;CN="Tampa Friends of Old-Time Dance":MAILTO:tfootd@gmail.com
END:VEVENT
BEGIN:VEVENT
DTSTART;TZID=UTC:20230423T153000
DTEND;TZID=UTC:20230423T190000
DTSTAMP:20260424T114501
CREATED:20230408T200203Z
LAST-MODIFIED:20230408T200205Z
UID:436-1682263800-1682276400@tampabaycontra.com
SUMMARY:Gulfport Casino Contra Dance - 23 Apr 2023
DESCRIPTION:Music by Category 5 with calling by Joe DePaolo
URL:https://tampabaycontra.com/event/gulfport-casino-contra-dance-23-apr-2023/
LOCATION:Gulfport Casino\, 5500 Shore Blvd S\, Gulfport\, FL\, 33707
CATEGORIES:Dancing
ORGANIZER;CN="Tampa Friends of Old-Time Dance":MAILTO:tfootd@gmail.com
END:VEVENT
BEGIN:VEVENT
DTSTART;TZID=UTC:20230414T190000
DTEND;TZID=UTC:20230414T223000
DTSTAMP:20260424T114501
CREATED:20230408T202221Z
LAST-MODIFIED:20230505T201816Z
UID:438-1681498800-1681511400@tampabaycontra.com
SUMMARY:Polish American Society Contra Dance - 14 Apr 2023
DESCRIPTION:Music by Jenny and the Stray Dogs with calling by Joey Norton
URL:https://tampabaycontra.com/event/polish-american-society-contra-dance-14-apr-2023/
LOCATION:Polish American Society\, 1343 Beach Dr SE\, St. Petersburg\, FL\, 33701
CATEGORIES:Dancing
ORGANIZER;CN="Tampa Friends of Old-Time Dance":MAILTO:tfootd@gmail.com
END:VEVENT
END:VCALENDAR