BEGIN:VCALENDAR
VERSION:2.0
PRODID:-//Tampa Bay Contra Dancing - ECPv6.15.20//NONSGML v1.0//EN
CALSCALE:GREGORIAN
METHOD:PUBLISH
X-ORIGINAL-URL:https://tampabaycontra.com
X-WR-CALDESC:Events for Tampa Bay Contra Dancing
REFRESH-INTERVAL;VALUE=DURATION:PT1H
X-Robots-Tag:noindex
X-PUBLISHED-TTL:PT1H
BEGIN:VTIMEZONE
TZID:UTC
BEGIN:STANDARD
TZOFFSETFROM:+0000
TZOFFSETTO:+0000
TZNAME:UTC
DTSTART:20250101T000000
END:STANDARD
END:VTIMEZONE
BEGIN:VEVENT
DTSTART;TZID=UTC:20260628T153000
DTEND;TZID=UTC:20260628T190000
DTSTAMP:20260423T222417
CREATED:20251219T195905Z
LAST-MODIFIED:20251219T195910Z
UID:4057-1782660600-1782673200@tampabaycontra.com
SUMMARY:Town Apartments North Contra Dance - 28 Jun 2026
DESCRIPTION:Music by Loco-Motion with calling by Jonathan King (using Ladies/Gents)
URL:https://tampabaycontra.com/event/town-apartments-north-contra-dance-28-jun-2026/
LOCATION:Town Apartments North\, 1900 61st Ave N\, St. Petersburg\, FL\, 33702
CATEGORIES:Dancing
ORGANIZER;CN="Tampa Friends of Old-Time Dance":MAILTO:tfootd@gmail.com
END:VEVENT
END:VCALENDAR