BEGIN:VCALENDAR
VERSION:2.0
PRODID:-//Tampa Bay Contra Dancing - ECPv6.15.20//NONSGML v1.0//EN
CALSCALE:GREGORIAN
METHOD:PUBLISH
X-WR-CALNAME:Tampa Bay Contra Dancing
X-ORIGINAL-URL:https://tampabaycontra.com
X-WR-CALDESC:Events for Tampa Bay Contra Dancing
REFRESH-INTERVAL;VALUE=DURATION:PT1H
X-Robots-Tag:noindex
X-PUBLISHED-TTL:PT1H
BEGIN:VTIMEZONE
TZID:UTC
BEGIN:STANDARD
TZOFFSETFROM:+0000
TZOFFSETTO:+0000
TZNAME:UTC
DTSTART:20240101T000000
END:STANDARD
END:VTIMEZONE
BEGIN:VEVENT
DTSTART;TZID=UTC:20260322T153000
DTEND;TZID=UTC:20260322T190000
DTSTAMP:20260423T234811
CREATED:20251219T192505Z
LAST-MODIFIED:20251219T192510Z
UID:4045-1774193400-1774206000@tampabaycontra.com
SUMMARY:Town Apartments North Contra Dance - 22 Mar 2026
DESCRIPTION:Music by Wind that Shakes the Barley with calling by Joe DiPaolo (using Ladies/Gents)
URL:https://tampabaycontra.com/event/town-apartments-north-contra-dance-22-mar-2026/
LOCATION:Town Apartments North\, 1900 61st Ave N\, St. Petersburg\, FL\, 33702
CATEGORIES:Dancing
ORGANIZER;CN="Tampa Friends of Old-Time Dance":MAILTO:tfootd@gmail.com
END:VEVENT
BEGIN:VEVENT
DTSTART;TZID=UTC:20260314T190000
DTEND;TZID=UTC:20260314T223000
DTSTAMP:20260423T234811
CREATED:20251219T192816Z
LAST-MODIFIED:20251219T193026Z
UID:4047-1773514800-1773527400@tampabaycontra.com
SUMMARY:Polish American Society Contra Dance - 14 Mar 2026
DESCRIPTION:Music by Shenanigators with calling by Stan Prince (using Ladies/Gents).
URL:https://tampabaycontra.com/event/polish-american-society-contra-dance-14-mar-2026/
LOCATION:Polish American Society\, 1343 Beach Dr SE\, St. Petersburg\, FL\, 33701
CATEGORIES:Dancing
ORGANIZER;CN="Tampa Friends of Old-Time Dance":MAILTO:tfootd@gmail.com
END:VEVENT
BEGIN:VEVENT
DTSTART;TZID=UTC:20260222T153000
DTEND;TZID=UTC:20260222T190000
DTSTAMP:20260423T234811
CREATED:20251101T145602Z
LAST-MODIFIED:20251101T145815Z
UID:4016-1771774200-1771786800@tampabaycontra.com
SUMMARY:Town Apartments North Contra Dance - 22 Feb 2026
DESCRIPTION:Music by That’s A Plenty with calling by Alice Raibourn (using Ladies/Gents)
URL:https://tampabaycontra.com/event/contra-dance-22-feb-2026/
LOCATION:Town Apartments North\, 1900 61st Ave N\, St. Petersburg\, FL\, 33702
CATEGORIES:Dancing
ORGANIZER;CN="Tampa Friends of Old-Time Dance":MAILTO:tfootd@gmail.com
END:VEVENT
BEGIN:VEVENT
DTSTART;TZID=UTC:20260214T190000
DTEND;TZID=UTC:20260214T223000
DTSTAMP:20260423T234811
CREATED:20251101T152258Z
LAST-MODIFIED:20251101T152413Z
UID:4024-1771095600-1771108200@tampabaycontra.com
SUMMARY:Polish American Society Contra Dance - 14 Feb 2026
DESCRIPTION:Music by Deux Francois Band with calling by Katie Zanders (using Larks/Robins).
URL:https://tampabaycontra.com/event/polish-american-society-contra-dance-14-feb-2026/
LOCATION:Polish American Society\, 1343 Beach Dr SE\, St. Petersburg\, FL\, 33701
CATEGORIES:Dancing
ORGANIZER;CN="Tampa Friends of Old-Time Dance":MAILTO:tfootd@gmail.com
END:VEVENT
BEGIN:VEVENT
DTSTART;TZID=UTC:20260125T090000
DTEND;TZID=UTC:20260125T133000
DTSTAMP:20260423T234811
CREATED:20251101T154050Z
LAST-MODIFIED:20251101T154146Z
UID:4030-1769331600-1769347800@tampabaycontra.com
SUMMARY:Florida Snow Ball - 25 Jan 2026
DESCRIPTION:Music by Turnip The Beet and Red Case Band. Calling by Michael Karcher and Lisa Greenleaf.
URL:https://tampabaycontra.com/event/florida-snow-ball-24-jan-2026-copy/
LOCATION:Boca Ciega High School\, Boca Ciega High School at 925 58th Street S.\, Gulfport
CATEGORIES:Dancing
ORGANIZER;CN="Tampa Friends of Old-Time Dance":MAILTO:tfootd@gmail.com
END:VEVENT
BEGIN:VEVENT
DTSTART;TZID=UTC:20260124T090000
DTEND;TZID=UTC:20260124T233000
DTSTAMP:20260423T234811
CREATED:20251101T153917Z
LAST-MODIFIED:20251101T153920Z
UID:4028-1769245200-1769297400@tampabaycontra.com
SUMMARY:Florida Snow Ball - 24 Jan 2026
DESCRIPTION:Music by Turnip The Beet and Red Case Band. Calling by Michael Karcher and Lisa Greenleaf.
URL:https://tampabaycontra.com/event/florida-snow-ball-24-jan-2026/
LOCATION:Boca Ciega High School\, Boca Ciega High School at 925 58th Street S.\, Gulfport
CATEGORIES:Dancing
ORGANIZER;CN="Tampa Friends of Old-Time Dance":MAILTO:tfootd@gmail.com
END:VEVENT
BEGIN:VEVENT
DTSTART;TZID=UTC:20260123T180000
DTEND;TZID=UTC:20260123T233000
DTSTAMP:20260423T234811
CREATED:20251101T153028Z
LAST-MODIFIED:20251101T153454Z
UID:4026-1769191200-1769211000@tampabaycontra.com
SUMMARY:Florida Snow Ball - 23 Jan 2026
DESCRIPTION:Music by Turnip The Beet and Red Case Band. Calling by Michael Karcher and Lisa Greenleaf.
URL:https://tampabaycontra.com/event/florida-snow-ball-23-jan-2026/
LOCATION:Boca Ciega High School\, Boca Ciega High School at 925 58th Street S.\, Gulfport
CATEGORIES:Dancing
ORGANIZER;CN="Tampa Friends of Old-Time Dance":MAILTO:tfootd@gmail.com
END:VEVENT
BEGIN:VEVENT
DTSTART;TZID=UTC:20260110T190000
DTEND;TZID=UTC:20260110T223000
DTSTAMP:20260423T234811
CREATED:20251101T151853Z
LAST-MODIFIED:20251219T191102Z
UID:4022-1768071600-1768084200@tampabaycontra.com
SUMMARY:Polish American Society Contra Dance - 10 Jan 2026
DESCRIPTION:Music by Jenny and the Stray Dogs with calling by Joey Norton (using Ladies/Gents).
URL:https://tampabaycontra.com/event/polish-american-society-contra-dance-10-jan-2026/
LOCATION:Polish American Society\, 1343 Beach Dr SE\, St. Petersburg\, FL\, 33701
CATEGORIES:Dancing
ORGANIZER;CN="Tampa Friends of Old-Time Dance":MAILTO:tfootd@gmail.com
END:VEVENT
BEGIN:VEVENT
DTSTART;TZID=UTC:20251228T153000
DTEND;TZID=UTC:20251228T190000
DTSTAMP:20260423T234811
CREATED:20250406T151847Z
LAST-MODIFIED:20250610T145800Z
UID:3854-1766935800-1766948400@tampabaycontra.com
SUMMARY:Bayou Club Contra Dance - 28 Dec 2025
DESCRIPTION:Music by Rafter Ringers with calling by Jonathan King (using Ladies/Gents)
URL:https://tampabaycontra.com/event/bayou-club-contra-dance-28-dec-2025/
LOCATION:Bayou Dance Club\, 6541 102nd Ave N\, Pinellas Park\, Florida\, 33782
CATEGORIES:Dancing
ORGANIZER;CN="Tampa Friends of Old-Time Dance":MAILTO:tfootd@gmail.com
END:VEVENT
BEGIN:VEVENT
DTSTART;TZID=UTC:20251213T190000
DTEND;TZID=UTC:20251213T223000
DTSTAMP:20260423T234811
CREATED:20250406T151735Z
LAST-MODIFIED:20250514T153025Z
UID:3852-1765652400-1765665000@tampabaycontra.com
SUMMARY:Polish American Society Contra Dance - 13 Dec 2025
DESCRIPTION:Music by DJ TacoShel with calling by Deanna Palumbo
URL:https://tampabaycontra.com/event/polish-american-society-contra-dance-13-dec-2025/
LOCATION:Polish American Society\, 1343 Beach Dr SE\, St. Petersburg\, FL\, 33701
CATEGORIES:Dancing
ORGANIZER;CN="Tampa Friends of Old-Time Dance":MAILTO:tfootd@gmail.com
END:VEVENT
BEGIN:VEVENT
DTSTART;TZID=UTC:20251123T153000
DTEND;TZID=UTC:20251123T190000
DTSTAMP:20260423T234811
CREATED:20250406T151555Z
LAST-MODIFIED:20250610T145646Z
UID:3850-1763911800-1763924400@tampabaycontra.com
SUMMARY:Bayou Club Contra Dance - 23 Nov 2025
DESCRIPTION:Music by Loco-Motion with calling by Vicki Morrison (using Ladies/Gents)
URL:https://tampabaycontra.com/event/bayou-club-contra-dance-23-nov-2025/
LOCATION:Bayou Dance Club\, 6541 102nd Ave N\, Pinellas Park\, Florida\, 33782
CATEGORIES:Dancing
ORGANIZER;CN="Tampa Friends of Old-Time Dance":MAILTO:tfootd@gmail.com
END:VEVENT
BEGIN:VEVENT
DTSTART;TZID=UTC:20251108T190000
DTEND;TZID=UTC:20251108T223000
DTSTAMP:20260423T234811
CREATED:20250406T151410Z
LAST-MODIFIED:20250724T145356Z
UID:3848-1762628400-1762641000@tampabaycontra.com
SUMMARY:Polish American Society Contra Dance - 8 Nov 2025
DESCRIPTION:Music by The Rafter Ringers with calling by Alice Raibourn (using Ladies/Gents)
URL:https://tampabaycontra.com/event/polish-american-society-contra-dance-8-nov-2025/
LOCATION:Polish American Society\, 1343 Beach Dr SE\, St. Petersburg\, FL\, 33701
CATEGORIES:Dancing
ORGANIZER;CN="Tampa Friends of Old-Time Dance":MAILTO:tfootd@gmail.com
END:VEVENT
BEGIN:VEVENT
DTSTART;TZID=UTC:20251026T153000
DTEND;TZID=UTC:20251026T190000
DTSTAMP:20260423T234811
CREATED:20250406T151146Z
LAST-MODIFIED:20250610T145133Z
UID:3846-1761492600-1761505200@tampabaycontra.com
SUMMARY:Bayou Club Contra Dance - 26 Oct 2025
DESCRIPTION:Music by Deux Francois Band with calling by Katie Zanders (using Larks/Robins)
URL:https://tampabaycontra.com/event/bayou-club-contra-dance-26-oct-2025/
LOCATION:Bayou Dance Club\, 6541 102nd Ave N\, Pinellas Park\, Florida\, 33782
CATEGORIES:Dancing
ORGANIZER;CN="Tampa Friends of Old-Time Dance":MAILTO:tfootd@gmail.com
END:VEVENT
BEGIN:VEVENT
DTSTART;TZID=UTC:20251011T190000
DTEND;TZID=UTC:20251011T223000
DTSTAMP:20260423T234811
CREATED:20250406T151000Z
LAST-MODIFIED:20250610T144938Z
UID:3844-1760209200-1760221800@tampabaycontra.com
SUMMARY:Polish American Society Contra Dance - 11 Oct 2025
DESCRIPTION:Music by Coral Riff with calling by Angela DeCarlis (using Larks/Robins)
URL:https://tampabaycontra.com/event/polish-american-society-contra-dance-11-oct-2025/
LOCATION:Polish American Society\, 1343 Beach Dr SE\, St. Petersburg\, FL\, 33701
CATEGORIES:Dancing
ORGANIZER;CN="Tampa Friends of Old-Time Dance":MAILTO:tfootd@gmail.com
END:VEVENT
BEGIN:VEVENT
DTSTART;TZID=UTC:20250928T153000
DTEND;TZID=UTC:20250928T190000
DTSTAMP:20260423T234811
CREATED:20250406T150705Z
LAST-MODIFIED:20250610T144817Z
UID:3842-1759073400-1759086000@tampabaycontra.com
SUMMARY:Bayou Club Contra Dance - 28 Sep 2025
DESCRIPTION:Music by That’s A Plenty with calling by Kenny Greer (using Ladies/Gents)
URL:https://tampabaycontra.com/event/bayou-club-contra-dance-28-sep-2025/
LOCATION:Bayou Dance Club\, 6541 102nd Ave N\, Pinellas Park\, Florida\, 33782
CATEGORIES:Dancing
ORGANIZER;CN="Tampa Friends of Old-Time Dance":MAILTO:tfootd@gmail.com
END:VEVENT
BEGIN:VEVENT
DTSTART;TZID=UTC:20250913T190000
DTEND;TZID=UTC:20250913T223000
DTSTAMP:20260423T234811
CREATED:20250406T150526Z
LAST-MODIFIED:20250610T144659Z
UID:3840-1757790000-1757802600@tampabaycontra.com
SUMMARY:Polish American Society Contra Dance - 13 Sep 2025
DESCRIPTION:Music by Kumquats at Large with calling by Alice Raibourn (using Ladies/Gents)
URL:https://tampabaycontra.com/event/polish-american-society-contra-dance-13-sep-2025/
LOCATION:Polish American Society\, 1343 Beach Dr SE\, St. Petersburg\, FL\, 33701
CATEGORIES:Dancing
ORGANIZER;CN="Tampa Friends of Old-Time Dance":MAILTO:tfootd@gmail.com
END:VEVENT
BEGIN:VEVENT
DTSTART;TZID=UTC:20250907T100000
DTEND;TZID=UTC:20250907T140000
DTSTAMP:20260423T234811
CREATED:20250802T170912Z
LAST-MODIFIED:20250802T205348Z
UID:3955-1757239200-1757253600@tampabaycontra.com
SUMMARY:Fall Ball - 7 Sep 2025
DESCRIPTION:Music by Little Mercies in AM\, Coral Riff in PM with calling by Kenny and Seth (using Ladies/Gents)
URL:https://tampabaycontra.com/event/fall-ball-7-sep-2025/
LOCATION:Polish American Society\, 1343 Beach Dr SE\, St. Petersburg\, FL\, 33701
CATEGORIES:Dancing
ORGANIZER;CN="Tampa Friends of Old-Time Dance":MAILTO:tfootd@gmail.com
END:VEVENT
BEGIN:VEVENT
DTSTART;TZID=UTC:20250906T193000
DTEND;TZID=UTC:20250906T223000
DTSTAMP:20260423T234811
CREATED:20250802T170217Z
LAST-MODIFIED:20250802T205247Z
UID:3953-1757187000-1757197800@tampabaycontra.com
SUMMARY:Fall Ball - 6 Sep 2025 Evening
DESCRIPTION:Music by Little Mercies with calling by Kenny Greer (using Ladies/Gents)
URL:https://tampabaycontra.com/event/fall-ball-6-sep-2025-evening/
LOCATION:Polish American Society\, 1343 Beach Dr SE\, St. Petersburg\, FL\, 33701
CATEGORIES:Dancing
ORGANIZER;CN="Tampa Friends of Old-Time Dance":MAILTO:tfootd@gmail.com
END:VEVENT
BEGIN:VEVENT
DTSTART;TZID=UTC:20250906T140000
DTEND;TZID=UTC:20250906T170000
DTSTAMP:20260423T234811
CREATED:20250802T165731Z
LAST-MODIFIED:20250802T205151Z
UID:3949-1757167200-1757178000@tampabaycontra.com
SUMMARY:Fall Ball - 6 Sep 2025 Afternoon
DESCRIPTION:Music by Little Mercies with calling by Kenny Greer (using Ladies/Gents)
URL:https://tampabaycontra.com/event/fall-ball-6-sep-2025-2/
LOCATION:Polish American Society\, 1343 Beach Dr SE\, St. Petersburg\, FL\, 33701
CATEGORIES:Dancing
ORGANIZER;CN="Tampa Friends of Old-Time Dance":MAILTO:tfootd@gmail.com
END:VEVENT
BEGIN:VEVENT
DTSTART;TZID=UTC:20250906T110000
DTEND;TZID=UTC:20250906T130000
DTSTAMP:20260423T234811
CREATED:20250802T154503Z
LAST-MODIFIED:20250806T144740Z
UID:3943-1757156400-1757163600@tampabaycontra.com
SUMMARY:Fall Ball - 6 Sep 2025 Morning ECD
DESCRIPTION:Music by Coral Riff with calling by Seth Tepfer (using Ladies/Gents) \n\n\n\nEnglish Country Dance session
URL:https://tampabaycontra.com/event/fall-ball-6-sep-2025/
LOCATION:Polish American Society\, 1343 Beach Dr SE\, St. Petersburg\, FL\, 33701
CATEGORIES:Dancing
ORGANIZER;CN="Tampa Friends of Old-Time Dance":MAILTO:tfootd@gmail.com
END:VEVENT
BEGIN:VEVENT
DTSTART;TZID=UTC:20250905T190000
DTEND;TZID=UTC:20250905T223000
DTSTAMP:20260423T234811
CREATED:20250802T153916Z
LAST-MODIFIED:20250802T204936Z
UID:3941-1757098800-1757111400@tampabaycontra.com
SUMMARY:Fall Ball - 5 Sep 2025
DESCRIPTION:Music by Coral Riff with calling by Seth Tepfer (using Ladies/Gents)
URL:https://tampabaycontra.com/event/fall-ball-5-sep-2025/
LOCATION:Polish American Society\, 1343 Beach Dr SE\, St. Petersburg\, FL\, 33701
CATEGORIES:Dancing
ORGANIZER;CN="Tampa Friends of Old-Time Dance":MAILTO:tfootd@gmail.com
END:VEVENT
BEGIN:VEVENT
DTSTART;TZID=UTC:20250824T153000
DTEND;TZID=UTC:20250824T190000
DTSTAMP:20260423T234811
CREATED:20250406T150326Z
LAST-MODIFIED:20250610T144515Z
UID:3838-1756049400-1756062000@tampabaycontra.com
SUMMARY:Bayou Club Contra Dance - 24 Aug 2025
DESCRIPTION:Music by Loco-Motion with calling by JJ Luxe (using Larks/Robins)
URL:https://tampabaycontra.com/event/bayou-club-contra-dance-24-aug-2025/
LOCATION:Bayou Dance Club\, 6541 102nd Ave N\, Pinellas Park\, Florida\, 33782
CATEGORIES:Dancing
ORGANIZER;CN="Tampa Friends of Old-Time Dance":MAILTO:tfootd@gmail.com
END:VEVENT
BEGIN:VEVENT
DTSTART;TZID=UTC:20250809T190000
DTEND;TZID=UTC:20250809T223000
DTSTAMP:20260423T234811
CREATED:20250406T150129Z
LAST-MODIFIED:20250610T144402Z
UID:3836-1754766000-1754778600@tampabaycontra.com
SUMMARY:Polish American Society Contra Dance - 9 Aug 2025
DESCRIPTION:Music by Wind that Shakes the Barley\, calling by Stan Prince & Kevin Shepherd (using Ladies/Gents)
URL:https://tampabaycontra.com/event/polish-american-society-contra-dance-9-aug-2025/
LOCATION:Polish American Society\, 1343 Beach Dr SE\, St. Petersburg\, FL\, 33701
CATEGORIES:Dancing
ORGANIZER;CN="Tampa Friends of Old-Time Dance":MAILTO:tfootd@gmail.com
END:VEVENT
BEGIN:VEVENT
DTSTART;TZID=UTC:20250727T153000
DTEND;TZID=UTC:20250727T190000
DTSTAMP:20260423T234811
CREATED:20250429T112006Z
LAST-MODIFIED:20250610T144248Z
UID:3865-1753630200-1753642800@tampabaycontra.com
SUMMARY:Contra Dance - 27 Jul 2025
DESCRIPTION:Music by Keeping it Reel with calling by Joe DiPaolo (using Ladies/Gents)
URL:https://tampabaycontra.com/event/contra-dance-27-jul-2025/
LOCATION:Town Apartments North\, 1900 61st Ave N\, St. Petersburg\, FL\, 33702
CATEGORIES:Dancing
ORGANIZER;CN="Tampa Friends of Old-Time Dance":MAILTO:tfootd@gmail.com
END:VEVENT
BEGIN:VEVENT
DTSTART;TZID=UTC:20250712T190000
DTEND;TZID=UTC:20250712T223000
DTSTAMP:20260423T234811
CREATED:20250402T211004Z
LAST-MODIFIED:20250610T144138Z
UID:3827-1752346800-1752359400@tampabaycontra.com
SUMMARY:Polish American Society Contra Dance - 12 Jul 2025
DESCRIPTION:Music by Rafter Ringers with calling by Joey Norton (using Ladies/Gents)
URL:https://tampabaycontra.com/event/polish-american-society-contra-dance-12-jul-2025/
LOCATION:Polish American Society\, 1343 Beach Dr SE\, St. Petersburg\, FL\, 33701
CATEGORIES:Dancing
ORGANIZER;CN="Tampa Friends of Old-Time Dance":MAILTO:tfootd@gmail.com
END:VEVENT
BEGIN:VEVENT
DTSTART;TZID=UTC:20250622T153000
DTEND;TZID=UTC:20250622T190000
DTSTAMP:20260423T234811
CREATED:20250402T205012Z
LAST-MODIFIED:20250610T144018Z
UID:3822-1750606200-1750618800@tampabaycontra.com
SUMMARY:Bayou Club Contra Dance - 22 Jun 2025
DESCRIPTION:Music by Jenny and the Stray Dogs with calling by Jonathan King (using Ladies/Gents)
URL:https://tampabaycontra.com/event/contra-dance-22-jun-2025/
LOCATION:Bayou Dance Club\, 6541 102nd Ave N\, Pinellas Park\, Florida\, 33782
CATEGORIES:Dancing
ORGANIZER;CN="Tampa Friends of Old-Time Dance":MAILTO:tfootd@gmail.com
END:VEVENT
BEGIN:VEVENT
DTSTART;TZID=UTC:20250614T190000
DTEND;TZID=UTC:20250614T223000
DTSTAMP:20260423T234811
CREATED:20250402T205405Z
LAST-MODIFIED:20250610T150313Z
UID:3824-1749927600-1749940200@tampabaycontra.com
SUMMARY:Polish American Society Contra Dance - 14 Jun 2025
DESCRIPTION:Music by Rafter Ringers with calling by Stan Prince (using Ladies/Gents)
URL:https://tampabaycontra.com/event/polish-american-society-contra-dance-14-jun-2025/
LOCATION:Polish American Society\, 1343 Beach Dr SE\, St. Petersburg\, FL\, 33701
CATEGORIES:Dancing
ORGANIZER;CN="Tampa Friends of Old-Time Dance":MAILTO:tfootd@gmail.com
END:VEVENT
BEGIN:VEVENT
DTSTART;TZID=UTC:20250525T153000
DTEND;TZID=UTC:20250525T190000
DTSTAMP:20260423T234811
CREATED:20250119T202257Z
LAST-MODIFIED:20250203T023740Z
UID:3761-1748187000-1748199600@tampabaycontra.com
SUMMARY:Contra Dance - 25 May 2025
DESCRIPTION:Music by Rafter Ringers with calling by Joey Norton
URL:https://tampabaycontra.com/event/contra-dance-25-may-2025/
LOCATION:Historic Largo Feed Store\, 295 Central Park Drive\, Largo\, Florida\, 33771
CATEGORIES:Dancing
ORGANIZER;CN="Tampa Friends of Old-Time Dance":MAILTO:tfootd@gmail.com
END:VEVENT
BEGIN:VEVENT
DTSTART;TZID=UTC:20250510T190000
DTEND;TZID=UTC:20250510T223000
DTSTAMP:20260423T234811
CREATED:20250119T200454Z
LAST-MODIFIED:20250203T024152Z
UID:3753-1746903600-1746916200@tampabaycontra.com
SUMMARY:Contra Dance - 10 May 2025
DESCRIPTION:Music by Wind that Shakes the Barley with calling by Vicki Morrison
URL:https://tampabaycontra.com/event/contra-dance-10-may-2025/
LOCATION:German American Society\, 8098 66th St. N.\, Pinellas Park\, FL\, 33781
CATEGORIES:Dancing
ORGANIZER;CN="Tampa Friends of Old-Time Dance":MAILTO:tfootd@gmail.com
END:VEVENT
BEGIN:VEVENT
DTSTART;TZID=UTC:20250427T153000
DTEND;TZID=UTC:20250427T190000
DTSTAMP:20260423T234811
CREATED:20250119T201941Z
LAST-MODIFIED:20250203T023500Z
UID:3759-1745767800-1745780400@tampabaycontra.com
SUMMARY:Contra Dance - 27 Apr 2025
DESCRIPTION:Music by Jenny and the Stray Dogs with calling by Joe De Paolo
URL:https://tampabaycontra.com/event/contra-dance-27-apr-2025/
LOCATION:Bayou Dance Club\, 6541 102nd Ave N\, Pinellas Park\, Florida\, 33782
CATEGORIES:Dancing
ORGANIZER;CN="Tampa Friends of Old-Time Dance":MAILTO:tfootd@gmail.com
END:VEVENT
END:VCALENDAR