BEGIN:VCALENDAR
VERSION:2.0
PRODID:-//Tampa Bay Contra Dancing - ECPv6.15.20//NONSGML v1.0//EN
CALSCALE:GREGORIAN
METHOD:PUBLISH
X-WR-CALNAME:Tampa Bay Contra Dancing
X-ORIGINAL-URL:https://tampabaycontra.com
X-WR-CALDESC:Events for Tampa Bay Contra Dancing
REFRESH-INTERVAL;VALUE=DURATION:PT1H
X-Robots-Tag:noindex
X-PUBLISHED-TTL:PT1H
BEGIN:VTIMEZONE
TZID:UTC
BEGIN:STANDARD
TZOFFSETFROM:+0000
TZOFFSETTO:+0000
TZNAME:UTC
DTSTART:20250101T000000
END:STANDARD
END:VTIMEZONE
BEGIN:VEVENT
DTSTART;TZID=UTC:20260314T190000
DTEND;TZID=UTC:20260314T223000
DTSTAMP:20260423T175845
CREATED:20251219T192816Z
LAST-MODIFIED:20251219T193026Z
UID:4047-1773514800-1773527400@tampabaycontra.com
SUMMARY:Polish American Society Contra Dance - 14 Mar 2026
DESCRIPTION:Music by Shenanigators with calling by Stan Prince (using Ladies/Gents).
URL:https://tampabaycontra.com/event/polish-american-society-contra-dance-14-mar-2026/
LOCATION:Polish American Society\, 1343 Beach Dr SE\, St. Petersburg\, FL\, 33701
CATEGORIES:Dancing
ORGANIZER;CN="Tampa Friends of Old-Time Dance":MAILTO:tfootd@gmail.com
END:VEVENT
END:VCALENDAR